BEGIN:VCALENDAR
VERSION:2.0
METHOD:PUBLISH
CALSCALE:GREGORIAN
PRODID:-//WordPress - MECv7.32.0//EN
X-ORIGINAL-URL:https://avrpd.com/
X-WR-CALNAME:Allegheny Valley Regional Police Department
X-WR-CALDESC:Serving Cheswick, Springdale  &amp; East Deer
X-WR-TIMEZONE:America/New_York
BEGIN:VTIMEZONE
TZID:America/New_York
X-LIC-LOCATION:America/New_York
BEGIN:DAYLIGHT
TZOFFSETFROM:-0500
TZOFFSETTO:-0400
TZNAME:EDT
DTSTART:20260308T030000
RRULE:FREQ=YEARLY;BYMONTH=03;BYDAY=2SU
END:DAYLIGHT
BEGIN:STANDARD
TZOFFSETFROM:-0400
TZOFFSETTO:-0500
TZNAME:EST
DTSTART:20261101T010000
RRULE:FREQ=YEARLY;BYMONTH=11;BYDAY=1SU
END:STANDARD
END:VTIMEZONE
REFRESH-INTERVAL;VALUE=DURATION:PT1H
X-PUBLISHED-TTL:PT1H
X-MS-OLK-FORCEINSPECTOROPEN:TRUE
BEGIN:VEVENT
CLASS:PUBLIC
UID:MEC-33edf41c0becd0d57c35c4e27276617b@avrpd.com
DTSTART;TZID=America/New_York:20260512T164500
DTEND;TZID=America/New_York:20260512T184500
DTSTAMP:20260309T160220Z
RRULE:FREQ=MONTHLY;WKST=MO;BYDAY=2TU
CREATED:20260309
LAST-MODIFIED:20260411
PRIORITY:5
SEQUENCE:4
TRANSP:OPAQUE
SUMMARY:AVRPD Board of Commissioners Monthly Meeting
DESCRIPTION:Allegheny Valley Regional Police Department Board of Commissioners Regular Monthly Meeting\n
URL:https://avrpd.com/events/avrpd-board-of-commissioners-monthly-meeting/
END:VEVENT
END:VCALENDAR
